Workbook

Sheet README
A1: This file presents data for the Hutchins Center Fiscal Impact Measure Breakdown.
A3: Table 1 breaks down the components of the FIM for the current quarter, one preceeding quarter, and our forecast for the next eight quarters. For purchases, it shows how much is due to the One Big Beautiful Bill Act, to the government shutdown, and to underlying fiscal policy. For taxes and transfers, it shows how much is due to OBBBA, to tariffs, and to other factors.
A4: Table 2 decomposes FIM inputs into underlying factors (purchases and transfers), the effects of the One Big Beautiful Bill Act, the impacts of tariffs and uncertainty around them, effects of supply-side policies, and effects of the government shutdown that began on Oct. 1, 2025 for the current quarter and eight-quarter forecast.
A5: Delta Table 1 shows the changes to Table 1 from the last time the FIM was updated on August 26, 2026.
A6: Delta Table 2 shows the changes to Table 2 from the last time the FIM was updated on August 26, 2026.

Sheet Table 1
A1: Table 1: Breakdown of FIM by component
B2: Total | D2: Purchases | K2: Taxes Transfers and Subsidies (includes supply side and uncertainty effects) | M2: Taxes | S2: Transfers | W2: Supply Side
D3: Total | G3: Subcomponents of Federal Purchases | M3: Total | N3: Subcomponents of Taxes | S3: Total | T3: Subcomponents of Transfers | W3: Total
E4: Federal | F4: State and Local | G4: OBBBA | H4: Government Shutdown | I4: Other | N4: OBBBA | O4: Tariffs | P4: Tariff Rebates | Q4: Other | T4: OBBBA | U4: Other | X4: IRA/CHIPS | Y4: Supply Side Effects of OBBBA
A5: 2026 Q1 | B5: =D5+K5 -> 0.83114904 | D5: =E5+F5 -> 0.42954207 | E5: 0.52065125 | F5: -0.091109175 | G5: 0.20781065 | H5: 1.1 | I5: =E5-G5-H5 -> -0.7871594 | K5: =M5+S5+W5 -> 0.40160697 | M5: -0.0044328888 | N5: 0.52365204 | O5: -0.18697642 | P5: 0 | Q5: =M5-N5-O5-P5 -> -0.34110851 | S5: 0.033598812 | T5: -0.053981092 | U5: =S5-T5 -> 0.087579904 | W5: =X5+Y5 -> 0.37244105 | X5: 0.31244105 | Y5: 0.06
A6: 2026 Q2 | B6: =D6+K6 -> -0.091558605 | D6: =E6+F6 -> -0.37504992 | E6: -0.28002824 | F6: -0.095021677 | G6: 0.11553896 | H6: 0 | I6: =E6-G6-H6 -> -0.3955672 | K6: =M6+S6+W6 -> 0.28349131 | M6: 0.29358382 | N6: 0.50693323 | O6: -0.053090297 | P6: 0.13022443 | Q6: =M6-N6-O6-P6 -> -0.29048353 | S6: -0.31830766 | T6: -0.052459905 | U6: =S6-T6 -> -0.26584776 | W6: =X6+Y6 -> 0.30821515 | X6: 0.24821515 | Y6: 0.06
A7: 2026 Q3 | B7: =D7+K7 -> -0.36412089 | D7: =E7+F7 -> -0.48512853 | E7: -0.30089252 | F7: -0.18423601 | G7: 0.064685875 | H7: -0.1 | I7: =E7-G7-H7 -> -0.2655784 | K7: =M7+S7+W7 -> 0.12100765 | M7: -0.012682031 | N7: 0.28886869 | O7: -0.068619954 | P7: 0.12315728 | Q7: =M7-N7-O7-P7 -> -0.35608805 | S7: -0.0034500415 | T7: -0.050963161 | U7: =S7-T7 -> 0.04751312 | W7: =X7+Y7 -> 0.13713972 | X7: 0.077139718 | Y7: 0.06
A8: 2026 Q4 | B8: =D8+K8 -> -0.44649071 | D8: =E8+F8 -> -0.31278051 | E8: -0.10375786 | F8: -0.20902264 | G8: -0.0054281454 | H8: 0 | I8: =E8-G8-H8 -> -0.098329716 | K8: =M8+S8+W8 -> -0.1337102 | M8: -0.13643738 | N8: 0.28226065 | O8: -0.12297404 | P8: -0.0097799723 | Q8: =M8-N8-O8-P8 -> -0.28594402 | S8: -0.0055119573 | T8: -0.085867202 | U8: =S8-T8 -> 0.080355245 | W8: =X8+Y8 -> 0.0082391373 | X8: -0.051760863 | Y8: 0.06
A9: 2027 Q1 | B9: =D9+K9 -> -0.82739334 | D9: =E9+F9 -> -0.30531768 | E9: -0.11065039 | F9: -0.19466729 | G9: -0.0076241491 | H9: 0 | I9: =E9-G9-H9 -> -0.10302624 | K9: =M9+S9+W9 -> -0.52207566 | M9: -0.38194181 | N9: 0.41531323 | O9: -0.12356936 | P9: -0.0095864404 | Q9: =M9-N9-O9-P9 -> -0.66409924 | S9: 0.064030861 | T9: -0.099962457 | U9: =S9-T9 -> 0.16399332 | W9: =X9+Y9 -> -0.2041647 | X9: -0.2641647 | Y9: 0.06
A10: 2027 Q2 | B10: =D10+K10 -> -0.85268379 | D10: =E10+F10 -> -0.283629 | E10: -0.094683472 | F10: -0.18894553 | G10: -0.0067573908 | H10: 0 | I10: =E10-G10-H10 -> -0.087926081 | K10: =M10+S10+W10 -> -0.56905479 | M10: -0.2214638 | N10: 0.40570904 | O10: 0.0030835255 | P10: -0.0094211056 | Q10: =M10-N10-O10-P10 -> -0.62083526 | S10: -0.047462344 | T10: -0.093605504 | U10: =S10-T10 -> 0.04614316 | W10: =X10+Y10 -> -0.30012865 | X10: -0.36012865 | Y10: 0.06
A11: 2027 Q3 | B11: =D11+K11 -> -0.72088958 | D11: =E11+F11 -> -0.2976741 | E11: -0.10111608 | F11: -0.19655802 | G11: -0.007085885 | H11: 0 | I11: =E11-G11-H11 -> -0.094030197 | K11: =M11+S11+W11 -> -0.42321548 | M11: 0.0069801332 | N11: 0.24402937 | O11: 0.046540646 | P11: -0.0092937361 | Q11: =M11-N11-O11-P11 -> -0.27429615 | S11: -0.047689699 | T11: -0.087670945 | U11: =S11-T11 -> 0.039981246 | W11: =X11+Y11 -> -0.38250591 | X11: -0.38250591 | Y11: 0
A12: 2027 Q4 | B12: =D12+K12 -> -0.73334816 | D12: =E12+F12 -> -0.35984805 | E12: -0.16697816 | F12: -0.19286989 | G12: -0.0071427006 | H12: 0 | I12: =E12-G12-H12 -> -0.15983546 | K12: =M12+S12+W12 -> -0.37350011 | M12: 0.04385117 | N12: 0.23867004 | O12: 0.066262514 | P12: -0.0091545921 | Q12: =M12-N12-O12-P12 -> -0.25192679 | S12: 0.0070128142 | T12: -0.0949385 | U12: =S12-T12 -> 0.10195131 | W12: =X12+Y12 -> -0.42436409 | X12: -0.42436409 | Y12: 0
A13: 2028 Q1 | B13: =D13+K13 -> -0.83007493 | D13: =E13+F13 -> -0.3910675 | E13: -0.19915662 | F13: -0.19191088 | G13: -0.0073890013 | H13: 0 | I13: =E13-G13-H13 -> -0.19176762 | K13: =M13+S13+W13 -> -0.43900744 | M13: -0.11371143 | N13: 0.043759905 | O13: 0.049599229 | P13: -0.009036192 | Q13: =M13-N13-O13-P13 -> -0.19803437 | S13: -0.054056786 | T13: -0.10697769 | U13: =S13-T13 -> 0.052920904 | W13: =X13+Y13 -> -0.27123922 | X13: -0.27123922 | Y13: 0
A14: 2028 Q2 | B14: =D14+K14 -> -0.67836047 | D14: =E14+F14 -> -0.35275229 | E14: -0.1651222 | F14: -0.18763009 | G14: -0.0073890013 | H14: 0 | I14: =E14-G14-H14 -> -0.1577332 | K14: =M14+S14+W14 -> -0.32560817 | M14: -0.11221445 | N14: 0.043759905 | O14: 0.049599229 | P14: -0.009036192 | Q14: =M14-N14-O14-P14 -> -0.19653739 | S14: -0.0034997949 | T14: -0.10697769 | U14: =S14-T14 -> 0.10347789 | W14: =X14+Y14 -> -0.20989393 | X14: -0.20989393 | Y14: 0

Sheet Table 2
A1: Table 2: Decomposing FIM into effects of OBBBA, other supply side effects, tariffs and tariff uncertainty, and underlying FIM
A2: Components of the Underlying FIM
B3: Total | C3: Underlying FIM | D3: Underlying FIM Purchases | E3: Underlying FIM Net Transfers | F3: OBBBA | G3: Tariffs | H3: IRA, CHIPS | I3: Government shutdown
A4: 2026 Q1 | B4: =C4+SUM(F4:I4) -> 0.83114904 | C4: =D4+E4 -> -1.1317972 | D4: ='Table 1'!F5+'Table 1'!I5 -> -0.87826858 | E4: ='Table 1'!Q5+'Table 1'!U5 -> -0.2535286 | F4: ='Table 1'!G5+'Table 1'!N5+'Table 1'!T5+'Table 1'!Y5 -> 0.7374816 | G4: ='Table 1'!O5+'Table 1'!P5 -> -0.18697642 | H4: ='Table 1'!X5 -> 0.31244105 | I4: ='Table 1'!H5 -> 1.1
A5: 2026 Q2 | B5: =C5+SUM(F5:I5) -> -0.091558605 | C5: =D5+E5 -> -1.0469202 | D5: ='Table 1'!F6+'Table 1'!I6 -> -0.49058887 | E5: ='Table 1'!Q6+'Table 1'!U6 -> -0.55633129 | F5: ='Table 1'!G6+'Table 1'!N6+'Table 1'!T6+'Table 1'!Y6 -> 0.63001228 | G5: ='Table 1'!O6+'Table 1'!P6 -> 0.077134131 | H5: ='Table 1'!X6 -> 0.24821515 | I5: ='Table 1'!H6 -> 0
A6: 2026 Q3 | B6: =C6+SUM(F6:I6) -> -0.36412089 | C6: =D6+E6 -> -0.75838934 | D6: ='Table 1'!F7+'Table 1'!I7 -> -0.44981441 | E6: ='Table 1'!Q7+'Table 1'!U7 -> -0.30857493 | F6: ='Table 1'!G7+'Table 1'!N7+'Table 1'!T7+'Table 1'!Y7 -> 0.3625914 | G6: ='Table 1'!O7+'Table 1'!P7 -> 0.054537326 | H6: ='Table 1'!X7 -> 0.077139718 | I6: ='Table 1'!H7 -> -0.1
A7: 2026 Q4 | B7: =C7+SUM(F7:I7) -> -0.44649071 | C7: =D7+E7 -> -0.51294113 | D7: ='Table 1'!F8+'Table 1'!I8 -> -0.30735236 | E7: ='Table 1'!Q8+'Table 1'!U8 -> -0.20558877 | F7: ='Table 1'!G8+'Table 1'!N8+'Table 1'!T8+'Table 1'!Y8 -> 0.25096531 | G7: ='Table 1'!O8+'Table 1'!P8 -> -0.13275402 | H7: ='Table 1'!X8 -> -0.051760863 | I7: ='Table 1'!H8 -> 0
A8: 2027 Q1 | B8: =C8+SUM(F8:I8) -> -0.82739334 | C8: =D8+E8 -> -0.79779945 | D8: ='Table 1'!F9+'Table 1'!I9 -> -0.29769353 | E8: ='Table 1'!Q9+'Table 1'!U9 -> -0.50010592 | F8: ='Table 1'!G9+'Table 1'!N9+'Table 1'!T9+'Table 1'!Y9 -> 0.36772662 | G8: ='Table 1'!O9+'Table 1'!P9 -> -0.1331558 | H8: ='Table 1'!X9 -> -0.2641647 | I8: ='Table 1'!H9 -> 0
A9: 2027 Q2 | B9: =C9+SUM(F9:I9) -> -0.85268379 | C9: =D9+E9 -> -0.85156371 | D9: ='Table 1'!F10+'Table 1'!I10 -> -0.27687161 | E9: ='Table 1'!Q10+'Table 1'!U10 -> -0.5746921 | F9: ='Table 1'!G10+'Table 1'!N10+'Table 1'!T10+'Table 1'!Y10 -> 0.36534615 | G9: ='Table 1'!O10+'Table 1'!P10 -> -0.0063375801 | H9: ='Table 1'!X10 -> -0.36012865 | I9: ='Table 1'!H10 -> 0
A10: 2027 Q3 | B10: =C10+SUM(F10:I10) -> -0.72088958 | C10: =D10+E10 -> -0.52490312 | D10: ='Table 1'!F11+'Table 1'!I11 -> -0.29058822 | E10: ='Table 1'!Q11+'Table 1'!U11 -> -0.2343149 | F10: ='Table 1'!G11+'Table 1'!N11+'Table 1'!T11+'Table 1'!Y11 -> 0.14927254 | G10: ='Table 1'!O11+'Table 1'!P11 -> 0.03724691 | H10: ='Table 1'!X11 -> -0.38250591 | I10: ='Table 1'!H11 -> 0
A11: 2027 Q4 | B11: =C11+SUM(F11:I11) -> -0.73334816 | C11: =D11+E11 -> -0.50268083 | D11: ='Table 1'!F12+'Table 1'!I12 -> -0.35270535 | E11: ='Table 1'!Q12+'Table 1'!U12 -> -0.14997548 | F11: ='Table 1'!G12+'Table 1'!N12+'Table 1'!T12+'Table 1'!Y12 -> 0.13658884 | G11: ='Table 1'!O12+'Table 1'!P12 -> 0.057107922 | H11: ='Table 1'!X12 -> -0.42436409 | I11: ='Table 1'!H12 -> 0
A12: 2028 Q1 | B12: =C12+SUM(F12:I12) -> -0.83007493 | C12: =D12+E12 -> -0.52879196 | D12: ='Table 1'!F13+'Table 1'!I13 -> -0.3836785 | E12: ='Table 1'!Q13+'Table 1'!U13 -> -0.14511347 | F12: ='Table 1'!G13+'Table 1'!N13+'Table 1'!T13+'Table 1'!Y13 -> -0.070606786 | G12: ='Table 1'!O13+'Table 1'!P13 -> 0.040563037 | H12: ='Table 1'!X13 -> -0.27123922 | I12: ='Table 1'!H13 -> 0
A13: 2028 Q2 | B13: =C13+SUM(F13:I13) -> -0.67836047 | C13: =D13+E13 -> -0.43842278 | D13: ='Table 1'!F14+'Table 1'!I14 -> -0.34536329 | E13: ='Table 1'!Q14+'Table 1'!U14 -> -0.093059492 | F13: ='Table 1'!G14+'Table 1'!N14+'Table 1'!T14+'Table 1'!Y14 -> -0.070606786 | G13: ='Table 1'!O14+'Table 1'!P14 -> 0.040563037 | H13: ='Table 1'!X14 -> -0.20989393 | I13: ='Table 1'!H14 -> 0

Sheet Delta Table 1
A1: Delta Table 1: Changes to Table 1 from Last FIM
B2: Total | D2: Purchases | K2: Taxes Transfers and Subsidies (includes supply side and uncertainty effects) | M2: Taxes | S2: Transfers | W2: Supply Side
D3: Total | G3: Subcomponents of Federal Purchases | M3: Total | N3: Subcomponents of Taxes | S3: Total | T3: Subcomponents of Transfers | W3: Total
E4: Federal | F4: State and Local | G4: OBBBA | H4: Government Shutdown | I4: Other | N4: OBBBA | O4: Tariffs | P4: Tariff Rebates | Q4: Other | T4: OBBBA | U4: Other | X4: IRA/CHIPS | Y4: Supply Side Effects of OBBBA
A5: 2026 Q1 | B5: 0.01257769 | D5: 0.056800548 | E5: 0.080372476 | F5: -0.023571928 | G5: 0 | H5: 0 | I5: 0.080372476 | K5: -0.044222858 | M5: -0.14799873 | N5: 0 | O5: 0 | P5: 0 | Q5: -0.14799873 | S5: 0.10320839 | T5: 0 | U5: 0.10320839 | W5: 0.00056748522 | X5: 0.00056748522 | Y5: 0
A6: 2026 Q2 | B6: 0.096723314 | D6: 0.14645385 | E6: 0.11779998 | F6: 0.028653865 | G6: 0 | H6: 0 | I6: 0.11779998 | K6: -0.049730536 | M6: -0.08739713 | N6: 0 | O6: 0 | P6: 0 | Q6: -0.08739713 | S6: 0.036582202 | T6: 0 | U6: 0.036582202 | W6: 0.0010843929 | X6: 0.0010843929 | Y6: 0
A7: 2026 Q3 | B7: -0.010249286 | D7: -0.0025644326 | E7: 0.0021992066 | F7: -0.0047636392 | G7: 0 | H7: 0 | I7: 0.0021992066 | K7: -0.0076848538 | M7: 0.024692788 | N7: 0 | O7: 0 | P7: 0 | Q7: 0.024692788 | S7: -0.032168965 | T7: 0 | U7: -0.032168965 | W7: -0.00020867704 | X7: -0.00020867704 | Y7: 0
A8: 2026 Q4 | B8: -0.043055996 | D8: -0.004084631 | E8: 0.0013198958 | F8: -0.0054045268 | G8: 0 | H8: 0 | I8: 0.0013198958 | K8: -0.038971365 | M8: 0.024510917 | N8: 0 | O8: 0 | P8: 0 | Q8: 0.024510917 | S8: -0.063622168 | T8: 0 | U8: -0.063622168 | W8: 0.00013988568 | X8: 0.00013988568 | Y8: 0
A9: 2027 Q1 | B9: -0.042071427 | D9: -0.0036257771 | E9: 0.0014075752 | F9: -0.0050333523 | G9: 0 | H9: 0 | I9: 0.0014075752 | K9: -0.03844565 | M9: 0.026203207 | N9: 0 | O9: 0 | P9: 0 | Q9: 0.026203207 | S9: -0.065361615 | T9: 0 | U9: -0.065361615 | W9: 0.00071275868 | X9: 0.00071275868 | Y9: 0
A10: 2027 Q2 | B10: 0.019527968 | D10: -0.0036809482 | E10: 0.0012044612 | F10: -0.0048854094 | G10: 0 | H10: 0 | I10: 0.0012044612 | K10: 0.023208916 | M10: 0.039229356 | N10: 0 | O10: 0 | P10: 0 | Q10: 0.039229356 | S10: -0.016991408 | T10: 0 | U10: -0.016991408 | W10: 0.00097096836 | X10: 0.00097096836 | Y10: 0
A11: 2027 Q3 | B11: 0.019886614 | D11: -0.0037959494 | E11: 0.0012862899 | F11: -0.0050822393 | G11: 0 | H11: 0 | I11: 0.0012862899 | K11: 0.023682563 | M11: 0.02872053 | N11: 0 | O11: 0 | P11: 0 | Q11: 0.02872053 | S11: -0.0060690939 | T11: 0 | U11: -0.0060690939 | W11: 0.0010311275 | X11: 0.0010311275 | Y11: 0
A12: 2027 Q4 | B12: 0.011612293 | D12: -0.0028627619 | E12: 0.0021241164 | F12: -0.0049868784 | G12: 0 | H12: 0 | I12: 0.0021241164 | K12: 0.014475055 | M12: 0.023748387 | N12: 0 | O12: 0 | P12: 0 | Q12: 0.023748387 | S12: -0.010416927 | T12: 0 | U12: -0.010416927 | W12: 0.0011435957 | X12: 0.0011435957 | Y12: 0
A13: 2028 Q1 | B13: 0.013389892 | D13: -0.0024286258 | E13: 0.0025334561 | F13: -0.0049620819 | G13: 0 | H13: 0 | I13: 0.0025334561 | K13: 0.015818518 | M13: 0.028986366 | N13: 0 | O13: 0 | P13: 0 | Q13: 0.028986366 | S13: -0.013899651 | T13: 0 | U13: -0.013899651 | W13: 0.00073180394 | X13: 0.00073180394 | Y13: 0
A14: 2028 Q2 | B14: 0.0015649791 | D14: -0.0027508902 | E14: 0.0021005069 | F14: -0.0048513971 | G14: 0 | H14: 0 | I14: 0.0021005069 | K14: 0.0043158693 | M14: 0.02180662 | N14: 0 | O14: 0 | P14: 0 | Q14: 0.02180662 | S14: -0.018057309 | T14: 0 | U14: -0.018057309 | W14: 0.00056655822 | X14: 0.00056655822 | Y14: 0

Sheet Delta Table 2
A1: Delta Table 2: Changes to Table 2 from Last FIM
A2: Components of the Underlying FIM
B3: Total | C3: Underlying FIM | D3: Underlying FIM Purchases | E3: Underlying FIM Net Transfers | F3: OBBBA | G3: Tariffs | H3: IRA, CHIPS | I3: Government shutdown
A4: 2026 Q1 | B4: =C4+SUM(F4:I4) -> 0.01257769 | C4: =D4+E4 -> 0.012010205 | D4: ='Delta Table 1'!F5+'Delta Table 1'!I5 -> 0.056800548 | E4: ='Delta Table 1'!Q5+'Delta Table 1'!U5 -> -0.044790343 | F4: ='Delta Table 1'!G5+'Delta Table 1'!N5+'Delta Table 1'!T5+'Delta Table 1'!Y5 -> 0 | G4: ='Delta Table 1'!O5+'Delta Table 1'!P5 -> 0 | H4: ='Delta Table 1'!X5 -> 0.00056748522 | I4: ='Delta Table 1'!H5 -> 0
A5: 2026 Q2 | B5: =C5+SUM(F5:I5) -> 0.096723314 | C5: =D5+E5 -> 0.095638921 | D5: ='Delta Table 1'!F6+'Delta Table 1'!I6 -> 0.14645385 | E5: ='Delta Table 1'!Q6+'Delta Table 1'!U6 -> -0.050814929 | F5: ='Delta Table 1'!G6+'Delta Table 1'!N6+'Delta Table 1'!T6+'Delta Table 1'!Y6 -> 0 | G5: ='Delta Table 1'!O6+'Delta Table 1'!P6 -> 0 | H5: ='Delta Table 1'!X6 -> 0.0010843929 | I5: ='Delta Table 1'!H6 -> 0
A6: 2026 Q3 | B6: =C6+SUM(F6:I6) -> -0.010249286 | C6: =D6+E6 -> -0.010040609 | D6: ='Delta Table 1'!F7+'Delta Table 1'!I7 -> -0.0025644326 | E6: ='Delta Table 1'!Q7+'Delta Table 1'!U7 -> -0.0074761767 | F6: ='Delta Table 1'!G7+'Delta Table 1'!N7+'Delta Table 1'!T7+'Delta Table 1'!Y7 -> 0 | G6: ='Delta Table 1'!O7+'Delta Table 1'!P7 -> 0 | H6: ='Delta Table 1'!X7 -> -0.00020867704 | I6: ='Delta Table 1'!H7 -> 0
A7: 2026 Q4 | B7: =C7+SUM(F7:I7) -> -0.043055996 | C7: =D7+E7 -> -0.043195882 | D7: ='Delta Table 1'!F8+'Delta Table 1'!I8 -> -0.004084631 | E7: ='Delta Table 1'!Q8+'Delta Table 1'!U8 -> -0.039111251 | F7: ='Delta Table 1'!G8+'Delta Table 1'!N8+'Delta Table 1'!T8+'Delta Table 1'!Y8 -> 0 | G7: ='Delta Table 1'!O8+'Delta Table 1'!P8 -> 0 | H7: ='Delta Table 1'!X8 -> 0.00013988568 | I7: ='Delta Table 1'!H8 -> 0
A8: 2027 Q1 | B8: =C8+SUM(F8:I8) -> -0.042071427 | C8: =D8+E8 -> -0.042784186 | D8: ='Delta Table 1'!F9+'Delta Table 1'!I9 -> -0.0036257771 | E8: ='Delta Table 1'!Q9+'Delta Table 1'!U9 -> -0.039158409 | F8: ='Delta Table 1'!G9+'Delta Table 1'!N9+'Delta Table 1'!T9+'Delta Table 1'!Y9 -> 0 | G8: ='Delta Table 1'!O9+'Delta Table 1'!P9 -> 0 | H8: ='Delta Table 1'!X9 -> 0.00071275868 | I8: ='Delta Table 1'!H9 -> 0
A9: 2027 Q2 | B9: =C9+SUM(F9:I9) -> 0.019527968 | C9: =D9+E9 -> 0.018557 | D9: ='Delta Table 1'!F10+'Delta Table 1'!I10 -> -0.0036809482 | E9: ='Delta Table 1'!Q10+'Delta Table 1'!U10 -> 0.022237948 | F9: ='Delta Table 1'!G10+'Delta Table 1'!N10+'Delta Table 1'!T10+'Delta Table 1'!Y10 -> 0 | G9: ='Delta Table 1'!O10+'Delta Table 1'!P10 -> 0 | H9: ='Delta Table 1'!X10 -> 0.00097096836 | I9: ='Delta Table 1'!H10 -> 0
A10: 2027 Q3 | B10: =C10+SUM(F10:I10) -> 0.019886614 | C10: =D10+E10 -> 0.018855486 | D10: ='Delta Table 1'!F11+'Delta Table 1'!I11 -> -0.0037959494 | E10: ='Delta Table 1'!Q11+'Delta Table 1'!U11 -> 0.022651436 | F10: ='Delta Table 1'!G11+'Delta Table 1'!N11+'Delta Table 1'!T11+'Delta Table 1'!Y11 -> 0 | G10: ='Delta Table 1'!O11+'Delta Table 1'!P11 -> 0 | H10: ='Delta Table 1'!X11 -> 0.0010311275 | I10: ='Delta Table 1'!H11 -> 0
A11: 2027 Q4 | B11: =C11+SUM(F11:I11) -> 0.011612293 | C11: =D11+E11 -> 0.010468698 | D11: ='Delta Table 1'!F12+'Delta Table 1'!I12 -> -0.0028627619 | E11: ='Delta Table 1'!Q12+'Delta Table 1'!U12 -> 0.01333146 | F11: ='Delta Table 1'!G12+'Delta Table 1'!N12+'Delta Table 1'!T12+'Delta Table 1'!Y12 -> 0 | G11: ='Delta Table 1'!O12+'Delta Table 1'!P12 -> 0 | H11: ='Delta Table 1'!X12 -> 0.0011435957 | I11: ='Delta Table 1'!H12 -> 0
A12: 2028 Q1 | B12: =C12+SUM(F12:I12) -> 0.013389892 | C12: =D12+E12 -> 0.012658089 | D12: ='Delta Table 1'!F13+'Delta Table 1'!I13 -> -0.0024286258 | E12: ='Delta Table 1'!Q13+'Delta Table 1'!U13 -> 0.015086714 | F12: ='Delta Table 1'!G13+'Delta Table 1'!N13+'Delta Table 1'!T13+'Delta Table 1'!Y13 -> 0 | G12: ='Delta Table 1'!O13+'Delta Table 1'!P13 -> 0 | H12: ='Delta Table 1'!X13 -> 0.00073180394 | I12: ='Delta Table 1'!H13 -> 0
A13: 2028 Q2 | B13: =C13+SUM(F13:I13) -> 0.0015649791 | C13: =D13+E13 -> 0.0009984209 | D13: ='Delta Table 1'!F14+'Delta Table 1'!I14 -> -0.0027508902 | E13: ='Delta Table 1'!Q14+'Delta Table 1'!U14 -> 0.0037493111 | F13: ='Delta Table 1'!G14+'Delta Table 1'!N14+'Delta Table 1'!T14+'Delta Table 1'!Y14 -> 0 | G13: ='Delta Table 1'!O14+'Delta Table 1'!P14 -> 0 | H13: ='Delta Table 1'!X14 -> 0.00056655822 | I13: ='Delta Table 1'!H14 -> 0
